BEGIN:VCALENDAR
VERSION:2.0
PRODID:-//ChamberMaster//Event Calendar 2.0//EN
METHOD:PUBLISH
X-PUBLISHED-TTL:P3D
REFRESH-INTERVAL:P3D
CALSCALE:GREGORIAN
BEGIN:VEVENT
DTSTART:20250809T143000Z
DTEND:20250809T223000Z
X-MICROSOFT-CDO-ALLDAYEVENT:FALSE
SUMMARY:Sample of the Day
DESCRIPTION:Sip\, Savor & Sample August Adventures\n\nWeek 2: Asian Inspirations\n\n\n\nEnjoy our Butter Chicken Crockpot Recipe
X-ALT-DESC;FMTTYPE=text/html:<strong><span style="font-size:16px">Sip\, Savor &amp\; Sample August Adventures</span><br />\n<span style="font-size:14px">Week 2: Asian Inspirations</span><br />\n<br />\n<span style="font-size:12px">Enjoy our Butter Chicken Crockpot Recipe</span></strong>
LOCATION:
UID:e.3485.19579
SEQUENCE:3
DTSTAMP:20260422T150120Z
URL:https://www.mountdora.com/events/details/sample-of-the-day-08-09-2025-19579
END:VEVENT

END:VCALENDAR
