BEGIN:VCALENDAR
VERSION:2.0
PRODID:-//ChamberMaster//Event Calendar 2.0//EN
METHOD:PUBLISH
X-PUBLISHED-TTL:P3D
REFRESH-INTERVAL:P3D
CALSCALE:GREGORIAN
BEGIN:VEVENT
DTSTART:20260423T203000Z
DTEND:20260423T210000Z
X-MICROSOFT-CDO-ALLDAYEVENT:FALSE
SUMMARY:RIBBON CUTTING - The Eclectic Market
DESCRIPTION:The Mount Dora Chamber will be cutting the ribbon to celebrate the grand opening of Eclectic Market. \n\nEclectic Market is an eclectic retail store offering custom gifts\, home decor\, and furniture\, blending unique\, new and used\, custom inspired items. Located in historic downtown Mount Dora\, Florida.
X-ALT-DESC;FMTTYPE=text/html:The Mount Dora Chamber will be cutting the ribbon to celebrate the grand opening of Eclectic Market.&nbsp\;<br />\nEclectic Market is an&nbsp\;eclectic retail store offering custom gifts\, home decor\, and furniture\, blending unique\, new and used\, custom inspired items.&nbsp\;Located in historic downtown Mount Dora\, Florida.
LOCATION:108 E 3rd Ave Mount Dora\, FL 32757
UID:e.3485.21834
SEQUENCE:3
DTSTAMP:20260419T124323Z
URL:https://www.mountdora.com/events/details/ribbon-cutting-the-eclectic-market-21834
END:VEVENT

END:VCALENDAR
