BEGIN:VCALENDAR
VERSION:2.0
PRODID:-//ChamberMaster//Event Calendar 2.0//EN
METHOD:PUBLISH
X-PUBLISHED-TTL:P3D
REFRESH-INTERVAL:P3D
CALSCALE:GREGORIAN
BEGIN:VEVENT
DTSTART:20250227T213000Z
DTEND:20250227T220000Z
X-MICROSOFT-CDO-ALLDAYEVENT:FALSE
SUMMARY:RIBBON CUTTING - Sud Stop Car Wash
DESCRIPTION:The Mount Dora Chamber will be cutting the ribbon to celebrate the grand opening of Sud Stop Car Wash!\n\nCome Join Us In Celebrating!
X-ALT-DESC;FMTTYPE=text/html:The Mount Dora Chamber will be cutting the ribbon to celebrate the grand opening of <a href="https://www.mountdora.com/list/member/sud-stop-car-wash-2204">Sud Stop Car Wash</a>!<br />\nCome Join Us In Celebrating!
LOCATION:
UID:e.3485.14587
SEQUENCE:3
DTSTAMP:20260422T193032Z
URL:https://www.mountdora.com/events/details/ribbon-cutting-sud-stop-car-wash-14587
END:VEVENT

END:VCALENDAR
