BEGIN:VCALENDAR
VERSION:2.0
PRODID:-//ChamberMaster//Event Calendar 2.0//EN
METHOD:PUBLISH
X-PUBLISHED-TTL:P3D
REFRESH-INTERVAL:P3D
CALSCALE:GREGORIAN
BEGIN:VEVENT
DTSTART:20250904T213000Z
DTEND:20250904T220000Z
X-MICROSOFT-CDO-ALLDAYEVENT:FALSE
SUMMARY:RIBBON CUTTING - Restored Counseling & Consulting
DESCRIPTION:Join us as we welcome Restored Counseling & Consulting to the Chamber family with an official ribbon cutting ceremony! Restored Counseling & Consulting provides confidential\, compassionate mental health counseling for individuals\, couples\, and families both in-person at their Mount Dora offices and virtually through a HIPAA-compliant online platform.\n\nCome celebrate this new addition to our community and learn how they're helping people find support\, healing\, and hope.
X-ALT-DESC;FMTTYPE=text/html:<p data-end="530" data-start="138">Join us as we welcome <strong data-end="230" data-start="194">Restored Counseling &amp\; Consulting</strong> to the Chamber family with an official ribbon cutting ceremony! Restored Counseling &amp\; Consulting provides confidential\, compassionate mental health counseling for individuals\, couples\, and families&mdash\;both in-person at their Mount Dora offices and virtually through a HIPAA-compliant online platform.</p>\n\n<p data-end="653" data-start="532">Come celebrate this new addition to our community and learn how they&rsquo\;re helping people find support\, healing\, and hope.</p>\n
LOCATION:1502 N Donnelly St\, Ste 110\, Mount Dora\, FL 32757
UID:e.3485.19599
SEQUENCE:3
DTSTAMP:20260422T103104Z
URL:https://www.mountdora.com/events/details/ribbon-cutting-restored-counseling-consulting-19599
END:VEVENT

END:VCALENDAR
