BEGIN:VCALENDAR
VERSION:2.0
PRODID:-//ChamberMaster//Event Calendar 2.0//EN
METHOD:PUBLISH
X-PUBLISHED-TTL:P3D
REFRESH-INTERVAL:P3D
CALSCALE:GREGORIAN
BEGIN:VEVENT
DTSTART:20250923T203000Z
DTEND:20250923T210000Z
X-MICROSOFT-CDO-ALLDAYEVENT:FALSE
SUMMARY:RIBBON CUTTING - Mystic Ice Cream
DESCRIPTION:Join us as we welcome Mystic Ice Cream to the Chamber family with an official ribbon cutting! \n\nCome out for the Ribbon Cutting and then stay for the tasting event. Try some unique flavors and enter to win free ice cream! Show your support - members supporting members!
X-ALT-DESC;FMTTYPE=text/html:<p data-end="530" data-start="138">Join us as we welcome <strong data-end="133" data-start="116">Mystic Ice Cream&nbsp\;</strong>to the Chamber family with an official ribbon cutting!&nbsp\;<br />\nCome out for the Ribbon Cutting and then stay for the&nbsp\;tasting event. Try some unique flavors and enter to win&nbsp\;free ice cream! Show your support&nbsp\;- members supporting members!</p>\n
LOCATION:348 Alexander Street\, Mount Dora FL 32757
UID:e.3485.19600
SEQUENCE:3
DTSTAMP:20260422T091051Z
URL:https://www.mountdora.com/events/details/ribbon-cutting-mystic-ice-cream-19600
END:VEVENT

END:VCALENDAR
