BEGIN:VCALENDAR
VERSION:2.0
PRODID:-//ChamberMaster//Event Calendar 2.0//EN
METHOD:PUBLISH
X-PUBLISHED-TTL:P3D
REFRESH-INTERVAL:P3D
CALSCALE:GREGORIAN
BEGIN:VEVENT
DTSTART:20250711T203000Z
DTEND:20250711T210000Z
X-MICROSOFT-CDO-ALLDAYEVENT:FALSE
SUMMARY:RIBBON CUTTING - Massage Envy
DESCRIPTION:Join us as we welcome Massage Envy of Mount Dora to the Chamber family with an official ribbon cutting ceremony! Enjoy complimentary mini facials\, 5-minute chair massages\, and 20% off all Marini Solutions products during the event. Come celebrate\, relax\, and take advantage of these exclusive perks!
X-ALT-DESC;FMTTYPE=text/html:<p data-end="472" data-start="101">Join us as we welcome Massage Envy of Mount Dora to the Chamber family with an official ribbon cutting ceremony! Enjoy <strong data-end="310" data-start="280">complimentary mini facials</strong>\, <strong data-end="339" data-start="312">5-minute chair massages</strong>\, and <strong data-end="386" data-is-only-node="" data-start="345">20% off all Marini Solutions products</strong> during the event. Come celebrate\, relax\, and take advantage of these exclusive perks!</p>\n
LOCATION:18660 Hwy 441\, Mount Dora\, FL 32757
UID:e.3485.19423
SEQUENCE:3
DTSTAMP:20260422T120008Z
URL:https://www.mountdora.com/events/details/ribbon-cutting-massage-envy-19423
END:VEVENT

END:VCALENDAR
