BEGIN:VCALENDAR
VERSION:2.0
PRODID:-//ChamberMaster//Event Calendar 2.0//EN
METHOD:PUBLISH
X-PUBLISHED-TTL:P3D
REFRESH-INTERVAL:P3D
CALSCALE:GREGORIAN
BEGIN:VEVENT
DTSTART:20251023T203000Z
DTEND:20251023T210000Z
X-MICROSOFT-CDO-ALLDAYEVENT:FALSE
SUMMARY:RIBBON CUTTING - Lewis Home & Bridal
DESCRIPTION:Join us as we celebrate Lewis Home & Bridal at their beautiful new location: 777 N Donnelly St\, Mount Dora. Come welcome them to the neighborhood\, tour the space\, and connect with fellow Chamber members and community friends. We'll snap a photo and officially cut the ribbon during the celebration. All are welcome!
X-ALT-DESC;FMTTYPE=text/html:Join us as we celebrate <em><strong data-end="156" data-start="133">Lewis Home &amp\; Bridal</strong></em> at their beautiful new location: <em><strong data-end="223" data-start="190">777 N Donnelly St\, Mount Dora</strong>.</em> Come welcome them to the neighborhood\, tour the space\, and connect with fellow Chamber members and community friends. We&rsquo\;ll snap a photo and officially cut the ribbon during the celebration. All are welcome!
LOCATION:
UID:e.3485.19604
SEQUENCE:3
DTSTAMP:20260422T091153Z
URL:https://www.mountdora.com/events/details/ribbon-cutting-lewis-home-bridal-19604
END:VEVENT

END:VCALENDAR
