BEGIN:VCALENDAR
VERSION:2.0
PRODID:-//ChamberMaster//Event Calendar 2.0//EN
METHOD:PUBLISH
X-PUBLISHED-TTL:P3D
REFRESH-INTERVAL:P3D
CALSCALE:GREGORIAN
BEGIN:VEVENT
DTSTART:20250620T160000Z
DTEND:20250620T170000Z
X-MICROSOFT-CDO-ALLDAYEVENT:FALSE
SUMMARY:RIBBON CUTTING - Denim & Pearls Boutique
DESCRIPTION:Come and check out Denim & Pearls Plus Size Boutique. \n\nRibbon Cutting & Grand Opening!
X-ALT-DESC;FMTTYPE=text/html:Come and check out Denim &amp\; Pearls Plus Size Boutique.&nbsp\;<br />\nRibbon Cutting &amp\; Grand Opening!
LOCATION:252 N. Donnelly Street\, Mount Dora\, FL 32757
UID:e.3485.19219
SEQUENCE:3
DTSTAMP:20260422T150203Z
URL:https://www.mountdora.com/events/details/ribbon-cutting-denim-pearls-boutique-19219
END:VEVENT

END:VCALENDAR
