BEGIN:VCALENDAR
VERSION:2.0
PRODID:-//ChamberMaster//Event Calendar 2.0//EN
METHOD:PUBLISH
X-PUBLISHED-TTL:P3D
REFRESH-INTERVAL:P3D
CALSCALE:GREGORIAN
BEGIN:VEVENT
DTSTART:20250724T203000Z
DTEND:20250724T210000Z
X-MICROSOFT-CDO-ALLDAYEVENT:FALSE
SUMMARY:RIBBON CUTTING - Bristol Park Apartments
DESCRIPTION:You're invited to join Bristol Park Apartments as they host the official Ribbon Cutting of their community. Share in this momentous occasion. Hors d'oeurves and beverages will be provided.
X-ALT-DESC;FMTTYPE=text/html:You&#39\;re invited to join Bristol Park Apartments as they host the official Ribbon Cutting of their community. Share in this momentous occasion. Hors d&#39\;oeurves and beverages will be provided.&nbsp\;
LOCATION:Bristol Park Apartments Clubhouse 2500 Peaceful River Drive Mount Dora\, FL 32757
UID:e.3485.19424
SEQUENCE:3
DTSTAMP:20260422T120310Z
URL:https://www.mountdora.com/events/details/ribbon-cutting-bristol-park-apartments-19424
END:VEVENT

END:VCALENDAR
