BEGIN:VCALENDAR
VERSION:2.0
PRODID:-//ChamberMaster//Event Calendar 2.0//EN
METHOD:PUBLISH
X-PUBLISHED-TTL:P3D
REFRESH-INTERVAL:P3D
CALSCALE:GREGORIAN
BEGIN:VEVENT
DTSTART:20250107T170000Z
DTEND:20250107T180000Z
X-MICROSOFT-CDO-ALLDAYEVENT:FALSE
SUMMARY:Real World Website Design
DESCRIPTION:Do you ever wonder if you have the best website you could have to attract your target market? Have you ever wanted to get an honest and unbiased review of your website? We will get down to the nitty-gritty as our presenter will take your website and critique it with specific do's and don'ts - LIVE during our completely interactive webinar. We will select several of Your websites to show you the Good\, the Bad and the Possibilities. You will leave knowing the right questions to ask as you look for ways to advance your website from meh to WOAH.\n\n\n\nWe will ask for you to submit your website for review. Our presenter will show you the best tips to make your website stand out and get you the views you deserve.\n\n\n\nPlease note\n\n\n\n1) Our Presenter will review and critique as many websites provided as time permits\n\n\n\n2) Our host will preview your website submission for appropriateness.
X-ALT-DESC;FMTTYPE=text/html:Do you ever wonder if you have the best website you could have to attract your target market? Have you ever wanted to get an&nbsp\;honest and unbiased&nbsp\;review of your website?&nbsp\;We will get down to the nitty-gritty as our presenter will take&nbsp\;your&nbsp\;website and critique it with specific do&rsquo\;s and don&rsquo\;ts -&nbsp\;LIVE&nbsp\;during our&nbsp\;completely interactive webinar.&nbsp\;We will select several of&nbsp\;Your&nbsp\;websites to show you the Good\, the Bad and the Possibilities.&nbsp\;You will leave knowing the right questions to ask as you look for ways to advance your website from meh to&nbsp\;WOAH.<br />\n<br />\nWe will ask for you to submit your website for review. Our presenter will show you the best tips to make your website stand out and get you the views you deserve.<br />\n<br />\nPlease note<br />\n<br />\n1) Our Presenter will review and critique as many websites provided as time permits<br />\n<br />\n2) Our host will preview your website submission for appropriateness.
LOCATION:Online Event
UID:e.3485.13245
SEQUENCE:3
DTSTAMP:20260422T222625Z
URL:https://www.mountdora.com/events/details/real-world-website-design-13245
END:VEVENT

END:VCALENDAR
