BEGIN:VCALENDAR
VERSION:2.0
PRODID:-//ChamberMaster//Event Calendar 2.0//EN
METHOD:PUBLISH
X-PUBLISHED-TTL:P3D
REFRESH-INTERVAL:P3D
CALSCALE:GREGORIAN
BEGIN:VEVENT
DTSTART:20250823T230000Z
DTEND:20250824T020000Z
X-MICROSOFT-CDO-ALLDAYEVENT:FALSE
SUMMARY:REAL Comedy Night Featuring Sabrina Ambra
DESCRIPTION:REAL Comedy is coming to Mount Dora on August 23rd with Sabrina Ambra.
X-ALT-DESC;FMTTYPE=text/html:REAL Comedy is coming to Mount Dora on August 23rd with Sabrina Ambra.&nbsp\;
LOCATION:Mount Dora Music Hall 520 North Baker Street Mount Dora\, FL 32757
UID:e.3485.19419
SEQUENCE:3
DTSTAMP:20260422T161940Z
URL:https://www.mountdora.com/events/details/real-comedy-night-featuring-sabrina-ambra-19419
END:VEVENT

END:VCALENDAR
