BEGIN:VCALENDAR
VERSION:2.0
PRODID:-//ChamberMaster//Event Calendar 2.0//EN
METHOD:PUBLISH
X-PUBLISHED-TTL:P3D
REFRESH-INTERVAL:P3D
CALSCALE:GREGORIAN
BEGIN:VEVENT
DTSTART:20250712T230000Z
DTEND:20250713T020000Z
X-MICROSOFT-CDO-ALLDAYEVENT:FALSE
SUMMARY:REAL Comedy Night Featuring Ryan Holmes
DESCRIPTION:REAL Comedy is coming to Mount Dora on July 12th with Ryan Holmes.
X-ALT-DESC;FMTTYPE=text/html:REAL Comedy is coming to Mount Dora on July 12th with Ryan Holmes.&nbsp\;
LOCATION:Mount Dora Music Hall 520 North Baker Street Mount Dora\, FL 32757
UID:e.3485.19418
SEQUENCE:3
DTSTAMP:20260422T145744Z
URL:https://www.mountdora.com/events/details/real-comedy-night-featuring-ryan-holmes-19418
END:VEVENT

END:VCALENDAR
