BEGIN:VCALENDAR
VERSION:2.0
PRODID:-//ChamberMaster//Event Calendar 2.0//EN
METHOD:PUBLISH
X-PUBLISHED-TTL:P3D
REFRESH-INTERVAL:P3D
CALSCALE:GREGORIAN
BEGIN:VEVENT
DTSTART:20250614T230000Z
DTEND:20250615T020000Z
X-MICROSOFT-CDO-ALLDAYEVENT:FALSE
SUMMARY:REAL Comedy Night Featuring Rauce Padgett
DESCRIPTION:REAL Comedy is coming to Mount Dora on June 14th with Rauce Padgette. Special guests: Kevin Deane\, Joel Warren\, and AJ Cline. Hosted by Angel Rivera.\n\nSponsored by Celsius\, Discover Lake County\, Clinical Research of Lake County and Local IQ.
X-ALT-DESC;FMTTYPE=text/html:REAL Comedy is coming to Mount Dora on June 14th with Rauce Padgette. Special guests: Kevin Deane\, Joel Warren\, and AJ Cline. Hosted by Angel Rivera.<br />\nSponsored by Celsius\, Discover Lake County\, Clinical Research of Lake County and Local IQ.
LOCATION:Mount Dora Music Hall 520 North Baker Street Mount Dora\, FL 32757
UID:e.3485.19218
SEQUENCE:3
DTSTAMP:20260422T192125Z
URL:https://www.mountdora.com/events/details/real-comedy-night-featuring-rauce-padgett-19218
END:VEVENT

END:VCALENDAR
