BEGIN:VCALENDAR
VERSION:2.0
PRODID:-//ChamberMaster//Event Calendar 2.0//EN
METHOD:PUBLISH
X-PUBLISHED-TTL:P3D
REFRESH-INTERVAL:P3D
CALSCALE:GREGORIAN
BEGIN:VEVENT
DTSTART:20251011T140000Z
DTEND:20251011T170000Z
X-MICROSOFT-CDO-ALLDAYEVENT:FALSE
SUMMARY:Pumpkin Painting
DESCRIPTION:Join us at nature blooms garden boutique for a morning of family fun of pumpkin painting\, flowers\, and a BBQ truck!
X-ALT-DESC;FMTTYPE=text/html:Join us at nature blooms garden boutique for a morning of family fun of pumpkin painting\, flowers\, and a BBQ truck!
LOCATION:Nature Blooms Garden Boutique
UID:e.3485.19729
SEQUENCE:3
DTSTAMP:20260422T115845Z
URL:https://www.mountdora.com/events/details/pumpkin-painting-19729
END:VEVENT

END:VCALENDAR
