BEGIN:VCALENDAR
VERSION:2.0
PRODID:-//ChamberMaster//Event Calendar 2.0//EN
METHOD:PUBLISH
X-PUBLISHED-TTL:P3D
REFRESH-INTERVAL:P3D
CALSCALE:GREGORIAN
BEGIN:VEVENT
DTSTART:20250111T150000Z
DTEND:20250111T160000Z
X-MICROSOFT-CDO-ALLDAYEVENT:FALSE
SUMMARY:Proposals: World Class Techniques That Increase Success
DESCRIPTION:In most industries\, a typical proposal generates a success rate under 25%. A great proposal generally results in close rates exceeding 50%. You'll learn how to make your proposals much more effective\, generating higher margins\, superior profits\, and resulting in even more fun building your business.
X-ALT-DESC;FMTTYPE=text/html:In most industries\, a typical proposal generates a success rate under 25%. A great proposal generally results in&nbsp\;close rates exceeding 50%. You&rsquo\;ll learn how to&nbsp\;make your proposals much more effective\, generating higher margins\, superior profits\, and resulting in even more fun building your business.
LOCATION:Online Event
UID:e.3485.13248
SEQUENCE:3
DTSTAMP:20260422T205335Z
URL:https://www.mountdora.com/events/details/proposals-world-class-techniques-that-increase-success-01-11-2025-13248
END:VEVENT

END:VCALENDAR
