BEGIN:VCALENDAR
VERSION:2.0
PRODID:-//ChamberMaster//Event Calendar 2.0//EN
METHOD:PUBLISH
X-PUBLISHED-TTL:P3D
REFRESH-INTERVAL:P3D
CALSCALE:GREGORIAN
BEGIN:VEVENT
DTSTART:20231204T130000Z
DTEND:20231204T140000Z
X-MICROSOFT-CDO-ALLDAYEVENT:FALSE
SUMMARY:Product Safety Impacts Your Business
DESCRIPTION:If you sell a product to anyone in the United States\, you have specific Product Safety requirements even if you are just reselling something designed or manufactured by someone else. The Consumer Product Safety Commission dictates some requirements and is called upon whenever someone is hurt by a consumer product. Make this part of your planning and development and you will have an easier time defending yourself in case of any problems. In this program\, we will have an open conversations with a product safety professional to give you the background most startups and small companies are missing. \n\n\n\nOur presenter\, Steve Epner is a SCORE volunteer and teaches Innovation and Entrepreneurship at Saint Louis University\, and after selling his business\, became the Entrepreneur in Residence for Boeing. He is a serial entrepreneur and mentor.
X-ALT-DESC;FMTTYPE=text/html:If you sell a product to anyone in the United States\, you have specific&nbsp\;Product Safety requirements even if you are just reselling something designed or manufactured by someone else. The Consumer Product Safety Commission dictates some requirements and is called upon whenever someone is hurt by a consumer product.&nbsp\;Make this part of your planning and development and you will have an easier time&nbsp\;defending yourself in case of any problems. In this program\, we will have an open conversations with a product safety professional to give you the background most startups and small companies are missing.&nbsp\;<br />\n<br />\nOur presenter\,&nbsp\;Steve Epner&nbsp\;is a SCORE volunteer and&nbsp\;teaches Innovation and Entrepreneurship at Saint Louis University\,&nbsp\;and after selling his business\, became the Entrepreneur in Residence for Boeing.&nbsp\;He is a serial entrepreneur and mentor.
LOCATION:Online
UID:e.3485.6817
SEQUENCE:3
DTSTAMP:20260420T070542Z
URL:https://www.mountdora.com/events/details/product-safety-impacts-your-business-6817
END:VEVENT

END:VCALENDAR
