BEGIN:VCALENDAR
VERSION:2.0
PRODID:-//ChamberMaster//Event Calendar 2.0//EN
METHOD:PUBLISH
X-PUBLISHED-TTL:P3D
REFRESH-INTERVAL:P3D
CALSCALE:GREGORIAN
BEGIN:VEVENT
DTSTART:20250122T230000Z
DTEND:20250123T003000Z
X-MICROSOFT-CDO-ALLDAYEVENT:FALSE
SUMMARY:Power of the Inbox
DESCRIPTION:Rescheduled from Oct 31. If you have already registered for Oct 31\, you do not have to register again - you are already registered for this new date/time.\n\n\n\nWhat is the first impression you give when they see you in their email inbox?\n\n\n\nAnd when they see you there\, what do they do?\n\n\n\nThis powerful seminar takes you step-by-step through the keys to effective email marketing:\n\n\n\nWhat it really is (and isn't)\n\nWhat it can do for your business\n\nAnd the five easy steps you must take to harness the power of the inbox!\n\n\n\nGrow a healthy list\n\nCreate great content\n\nCustomize a beautiful\, mobile-friendly template that matches your brand\n\nHow to get your emails opened\n\nTracking your results\n\n\n\nFrom revealing why regular email doesn't work\, to insider tips and techniques like automated list building tools and the design elements that work (and those that don't!)\, this seminar will give you the keys to the most effective marketing you can do: email marketing.\n\n\n\nWith a 36:1 return on investment\, email marketing simply makes sense.
X-ALT-DESC;FMTTYPE=text/html:Rescheduled from Oct 31. If you have already registered for Oct 31\, you do not have to register again - you are already registered for this new date/time.<br />\n<br />\nWhat is the&nbsp\;first impression&nbsp\;you give when they see you in their&nbsp\;email inbox?<br />\n<br />\nAnd when they see you there\, what do they do?<br />\n<br />\nThis powerful seminar takes you&nbsp\;step-by-step through the keys to effective email marketing:<br />\n<br />\nWhat it really is (and isn&rsquo\;t)<br />\nWhat it can do for your business<br />\nAnd the&nbsp\;five easy steps&nbsp\;you must take to harness the power of the inbox!<br />\n<br />\nGrow a healthy list<br />\nCreate great content<br />\nCustomize a beautiful\, mobile-friendly template that matches your brand<br />\nHow to get your emails opened<br />\nTracking your results<br />\n<br />\nFrom revealing why regular email doesn&#39\;t work\, to insider tips and techniques like automated list building tools and the design elements that work (and those that don&#39\;t!)\, this seminar will give you the keys to the most effective marketing you can do: email marketing.<br />\n<br />\nWith a&nbsp\;36:1 return on investment\, email marketing simply makes sense.
LOCATION:Online Event
UID:e.3485.13263
SEQUENCE:3
DTSTAMP:20260422T223129Z
URL:https://www.mountdora.com/events/details/power-of-the-inbox-01-22-2025-13263
END:VEVENT

END:VCALENDAR
