BEGIN:VCALENDAR
VERSION:2.0
PRODID:-//ChamberMaster//Event Calendar 2.0//EN
METHOD:PUBLISH
X-PUBLISHED-TTL:P3D
REFRESH-INTERVAL:P3D
CALSCALE:GREGORIAN
BEGIN:VEVENT
DTSTART:20250123T180000Z
DTEND:20250123T180000Z
X-MICROSOFT-CDO-ALLDAYEVENT:FALSE
SUMMARY:Plein Air Paint Out - MOUNT DORA ART LEAGUE (MDAL)
DESCRIPTION:The public is invited to a Plein Air Paint Out session at Trimble Park.
X-ALT-DESC;FMTTYPE=text/html:The public is invited to a&nbsp\;<span style="color:#FF0000\;">Plein Air Paint Out&nbsp\;</span>session at Trimble Park.
LOCATION:
UID:e.3485.13706
SEQUENCE:3
DTSTAMP:20260423T024315Z
URL:https://www.mountdora.com/events/details/plein-air-paint-out-mount-dora-art-league-mdal-13706
END:VEVENT

END:VCALENDAR
