BEGIN:VCALENDAR
VERSION:2.0
PRODID:-//ChamberMaster//Event Calendar 2.0//EN
METHOD:PUBLISH
X-PUBLISHED-TTL:P3D
REFRESH-INTERVAL:P3D
CALSCALE:GREGORIAN
BEGIN:VEVENT
DTSTART:20230408T200000Z
DTEND:20230409T000000Z
X-MICROSOFT-CDO-ALLDAYEVENT:FALSE
SUMMARY:Plaid In The Park
DESCRIPTION:Mount Dora has the lights on for you?.come join us this Saturday for Plaid in the Park?.the City of Mount Dora Pipe Band?.Scottish Dancers\, Ennis the balladeer?.and vendors will help you find presents for the holidays?Pipe band arrives at 4 and performs throughout the evening?.grab yer kilts\, and yer kin and join us!
X-ALT-DESC;FMTTYPE=text/html:<span font-size:="" style="color: rgb(5\, 5\, 5)\; font-family: system-ui\, -apple-system\, " white-space:="">Mount Dora has the lights on for you?.come join us this Saturday for Plaid in the Park?.the City of Mount Dora Pipe Band?.Scottish Dancers\, Ennis the balladeer?.and vendors will help you find presents for the holidays?Pipe band arrives at 4 and performs throughout the evening?.grab yer kilts\, and yer kin and join us!</span>
LOCATION:Sunset Park 230 W. 4th Ave Mount Dora
UID:e.3485.5741
SEQUENCE:3
DTSTAMP:20260420T235012Z
URL:https://www.mountdora.com/events/details/plaid-in-the-park-04-08-2023-5741
END:VEVENT

END:VCALENDAR
