BEGIN:VCALENDAR
VERSION:2.0
PRODID:-//ChamberMaster//Event Calendar 2.0//EN
METHOD:PUBLISH
X-PUBLISHED-TTL:P3D
REFRESH-INTERVAL:P3D
CALSCALE:GREGORIAN
BEGIN:VEVENT
DTSTART:20251018T140000Z
DTEND:20251018T160000Z
X-MICROSOFT-CDO-ALLDAYEVENT:FALSE
SUMMARY:Pet Adoption Event
DESCRIPTION:You're invited to a Pet Adoption Event at Watson Realty Corp.\n\n	Vets\n	Grooming\n	Pet Toys
X-ALT-DESC;FMTTYPE=text/html:You&#39\;re invited to a Pet Adoption Event at Watson Realty Corp.\n<ul>\n	<li>Vets</li>\n	<li>Grooming</li>\n	<li>Pet Toys</li>\n</ul>\n
LOCATION:639 N Donnelly St. Mount Dora\, FL 32757
UID:e.3485.19736
SEQUENCE:3
DTSTAMP:20260422T115846Z
URL:https://www.mountdora.com/events/details/pet-adoption-event-19736
END:VEVENT

END:VCALENDAR
