BEGIN:VCALENDAR
VERSION:2.0
PRODID:-//ChamberMaster//Event Calendar 2.0//EN
METHOD:PUBLISH
X-PUBLISHED-TTL:P3D
REFRESH-INTERVAL:P3D
CALSCALE:GREGORIAN
BEGIN:VEVENT
DTSTART:20251020T170000Z
DTEND:20251020T180000Z
X-MICROSOFT-CDO-ALLDAYEVENT:FALSE
SUMMARY:Personalized Email Marketing with AI: Craft Targeted Campaigns That Convert
DESCRIPTION:Tired of sending emails that get ignored? The key to higher open rates\, better engagement\, and actual conversions isn't sending more emails it's sending smarter ones. And that's exactly where AI comes in. In this SCORE session\, I'll show you how to use AI-powered tools to craft emails that feel personal\, get opened\, and drive real results without spending hours writing and guessing what works.\n\n\n\nWe'll dive into how AI can help you analyze customer behavior\, segment your audience like a pro\, and even generate subject lines and content that get clicks. You'll learn how to automate follow-ups\, optimize send times\, and track performance so you know what's working (instead of just hoping for the best). Whether you're new to email marketing or looking to improve your current strategy\, this session will give you practical\, AI-driven tactics you can implement right away.\n\n\n\nIf you're ready to stop sending emails into the void and start turning your list into loyal customers\, grab your spot now! Let's make AI your secret weapon for email marketing that actually works.
X-ALT-DESC;FMTTYPE=text/html:Tired of sending emails that get ignored? The key to higher open rates\, better engagement\, and actual conversions isn&rsquo\;t sending more emails&mdash\;it&rsquo\;s sending smarter ones. And that&rsquo\;s exactly where AI comes in. In this SCORE session\, I&rsquo\;ll show you how to use AI-powered tools to craft emails that feel personal\, get opened\, and drive real results&mdash\;without spending hours writing and guessing what works.<br />\n<br />\nWe&rsquo\;ll dive into how AI can help you analyze customer behavior\, segment your audience like a pro\, and even generate subject lines and content that get clicks. You&rsquo\;ll learn how to automate follow-ups\, optimize send times\, and track performance so you know what&rsquo\;s working (instead of just hoping for the best). Whether you&rsquo\;re new to email marketing or looking to improve your current strategy\, this session will give you practical\, AI-driven tactics you can implement right away.<br />\n<br />\nIf you&rsquo\;re ready to stop sending emails into the void and start turning your list into loyal customers\, grab your spot now! Let&rsquo\;s make AI your secret weapon for email marketing that actually works.
LOCATION:Online Event
UID:e.3485.19639
SEQUENCE:3
DTSTAMP:20260422T074155Z
URL:https://www.mountdora.com/events/details/personalized-email-marketing-with-ai-craft-targeted-campaigns-that-convert-19639
END:VEVENT

END:VCALENDAR
