BEGIN:VCALENDAR
VERSION:2.0
PRODID:-//ChamberMaster//Event Calendar 2.0//EN
METHOD:PUBLISH
X-PUBLISHED-TTL:P3D
REFRESH-INTERVAL:P3D
CALSCALE:GREGORIAN
BEGIN:VEVENT
DTSTART:20251002T153000Z
DTEND:20251002T160000Z
X-MICROSOFT-CDO-ALLDAYEVENT:FALSE
SUMMARY:Paws for Children Pet Blessing at First Presbyterian Preschool
DESCRIPTION:A special Paws for Children Pet Blessing at 11:30 in front of the First Presbyterian Preschool on MacDonald street side of the building is for children to bring their pets to be blessed by Dr. Brenda Loyal\, pastor at First Presbyterian Church Mount Dora. Bring your beloved furry\, feathered & scaly friends to receive a special blessing for their health and happiness! All Are Welcome!
X-ALT-DESC;FMTTYPE=text/html:<p><span style="font-size:20px"><span style="font-family:tahoma">A special Paws for Children Pet Blessing at 11:30 in front of the First Presbyterian Preschool on MacDonald street side of the building is for children to bring their pets to be blessed by Dr. Brenda Loyal\, pastor at First Presbyterian Church Mount Dora.&nbsp\;Bring your beloved furry\, feathered &amp\; scaly friends to receive a special blessing for their health and happiness! All Are Welcome!</span></span></p>\n
LOCATION:MacDonald between 5th & 6th Street Historic Downtown Mount Dora
UID:e.3485.19663
SEQUENCE:3
DTSTAMP:20260422T132537Z
URL:https://www.mountdora.com/events/details/paws-for-children-pet-blessing-at-first-presbyterian-preschool-19663
END:VEVENT

END:VCALENDAR
