BEGIN:VCALENDAR
VERSION:2.0
PRODID:-//ChamberMaster//Event Calendar 2.0//EN
METHOD:PUBLISH
X-PUBLISHED-TTL:P3D
REFRESH-INTERVAL:P3D
CALSCALE:GREGORIAN
BEGIN:VEVENT
DTSTART:20250926T233000Z
DTEND:20250927T010000Z
X-MICROSOFT-CDO-ALLDAYEVENT:FALSE
SUMMARY:PAUL is All - A Tribute to Sir Paul McCartney
DESCRIPTION:Come out and enjoy a wonderful evening with John Babcock's "PAUL is All"\, the ultimate tribute to Sir Paul McCartney.
X-ALT-DESC;FMTTYPE=text/html:Come out and enjoy a wonderful evening with John Babcock&#39\;s &quot\;PAUL is All&quot\;\, the ultimate tribute to Sir Paul McCartney.
LOCATION:The Mount Dora Music Hall Community Building 520 Baker Street Mount Dora\, FL 32757
UID:e.3485.19596
SEQUENCE:3
DTSTAMP:20260422T150400Z
URL:https://www.mountdora.com/events/details/paul-is-all-a-tribute-to-sir-paul-mccartney-19596
END:VEVENT

END:VCALENDAR
