BEGIN:VCALENDAR
VERSION:2.0
PRODID:-//ChamberMaster//Event Calendar 2.0//EN
METHOD:PUBLISH
X-PUBLISHED-TTL:P3D
REFRESH-INTERVAL:P3D
CALSCALE:GREGORIAN
BEGIN:VEVENT
DTSTART:20250629T200000Z
DTEND:20250629T211500Z
X-MICROSOFT-CDO-ALLDAYEVENT:FALSE
SUMMARY:Patriotic Concert & Ice Cream Social at First Presbyterian
DESCRIPTION:Celebrate America! Bring the family to an inspirational live concert featuring soloists Kasey Cox\, Janelle Woodward and Rick Vale\, percussionist John Lowe and pianist Randy Frieling. Delicious Ice Cream Social follows!
X-ALT-DESC;FMTTYPE=text/html:<span style="font-size:20px"><span style="font-family:tahoma">Celebrate America!&nbsp\;Bring the family to an inspirational live concert featuring soloists Kasey Cox\, Janelle Woodward and Rick Vale\, percussionist John Lowe and pianist Randy Frieling. Delicious Ice Cream Social follows!&nbsp\;</span></span>
LOCATION:First Presbyterian Church Mount Dora 222 W 6th Ave. (Historic Downtown between Alexander and McDonald) Mount Dora\, FL 32726
UID:e.3485.18315
SEQUENCE:3
DTSTAMP:20260422T192808Z
URL:https://www.mountdora.com/events/details/patriotic-concert-ice-cream-social-at-first-presbyterian-18315
END:VEVENT

END:VCALENDAR
