BEGIN:VCALENDAR
VERSION:2.0
PRODID:-//ChamberMaster//Event Calendar 2.0//EN
METHOD:PUBLISH
X-PUBLISHED-TTL:P3D
REFRESH-INTERVAL:P3D
CALSCALE:GREGORIAN
BEGIN:VEVENT
DTSTART:20250123T180000Z
DTEND:20250123T190000Z
X-MICROSOFT-CDO-ALLDAYEVENT:FALSE
SUMMARY:Outsmart Your Competition: Bigger\, Better-Funded Rivals Will Never See it Coming
DESCRIPTION:Small businesses can't drown out industry giants in sheer ad spend or resources.\n\n\n\nBut you can outsmart them by leveraging creativity\, quickness\, and a deep understanding of your ideal prospects to create authentic customer experiences.\n\n\n\nThis webinar\, will help spark your next great idea so you can 'punch above your weight.' In this session\, you will learn:\n\n\n\n        The three types of competitors (many entrepreneurs focus on type #1 competition\, but by becoming a type #2 or type #3 competitor\, you can outmaneuver the giants)\n\n\n\n        The 4 factors of a highly effective value proposition\n\n\n\n        How to use AI for competitor analysis
X-ALT-DESC;FMTTYPE=text/html:Small businesses can&rsquo\;t drown out industry giants in sheer ad spend or resources.<br />\n<br />\nBut you can outsmart them by leveraging creativity\, quickness\, and a deep understanding of your ideal prospects to create authentic customer experiences.<br />\n<br />\nThis webinar\, will help spark your next great idea so you can &lsquo\;punch above your weight.&rsquo\; In this session\, you will learn:<br />\n<br />\n&middot\;&nbsp\;&nbsp\;&nbsp\;&nbsp\;&nbsp\;&nbsp\;&nbsp\;The three types of competitors (many entrepreneurs focus on type #1 competition\, but by becoming a type #2 or type #3 competitor\, you can outmaneuver the giants)<br />\n<br />\n&middot\;&nbsp\;&nbsp\;&nbsp\;&nbsp\;&nbsp\;&nbsp\;&nbsp\;The 4 factors of a highly effective value proposition<br />\n<br />\n&middot\;&nbsp\;&nbsp\;&nbsp\;&nbsp\;&nbsp\;&nbsp\;&nbsp\;How to use AI for competitor analysis
LOCATION:Online Event
UID:e.3485.13265
SEQUENCE:3
DTSTAMP:20260422T223032Z
URL:https://www.mountdora.com/events/details/outsmart-your-competition-bigger-better-funded-rivals-will-never-see-it-coming-13265
END:VEVENT

END:VCALENDAR
