BEGIN:VCALENDAR
VERSION:2.0
PRODID:-//ChamberMaster//Event Calendar 2.0//EN
METHOD:PUBLISH
X-PUBLISHED-TTL:P3D
REFRESH-INTERVAL:P3D
CALSCALE:GREGORIAN
BEGIN:VEVENT
DTSTART:20250118T150000Z
DTEND:20250118T163000Z
X-MICROSOFT-CDO-ALLDAYEVENT:FALSE
SUMMARY:Optimize the Value of Your Business - From Business Owner to Wealth Creator
DESCRIPTION:This webinar will educate business owners on the importance of looking at their business as an investment\, one they control.\n\n\n\nKey topics include\n\n\n\nBuilding a business with the end in mind\n\nHow businesses are valued\n\nRisks in your business\n\nStrategic growth that enhances VALUE\n\nThe business Sales Process
X-ALT-DESC;FMTTYPE=text/html:This webinar will educate business owners on the importance of looking at their business as an investment\, one they control.<br />\n<br />\nKey topics include<br />\n<br />\nBuilding a business with the end in mind<br />\nHow businesses are valued<br />\nRisks in your business<br />\nStrategic growth that enhances&nbsp\;VALUE<br />\nThe business Sales Process
LOCATION:Online Event
UID:e.3485.13259
SEQUENCE:3
DTSTAMP:20260422T223316Z
URL:https://www.mountdora.com/events/details/optimize-the-value-of-your-business-from-business-owner-to-wealth-creator-13259
END:VEVENT

END:VCALENDAR
