BEGIN:VCALENDAR
VERSION:2.0
PRODID:-//ChamberMaster//Event Calendar 2.0//EN
METHOD:PUBLISH
X-PUBLISHED-TTL:P3D
REFRESH-INTERVAL:P3D
CALSCALE:GREGORIAN
BEGIN:VEVENT
DTSTART:20250814T150000Z
DTEND:20250814T180000Z
X-MICROSOFT-CDO-ALLDAYEVENT:FALSE
SUMMARY:OPEN HOUSE - Mount Dora Building Department
DESCRIPTION:The Mount Dora Building Department would like to invite you to visit the Open House of their newly renovated building.
X-ALT-DESC;FMTTYPE=text/html:The Mount Dora Building Department would like to invite you to visit the Open House of their newly renovated building.
LOCATION:Mount Dora Building Department 308 E 5th Avenue Mount Dora\, FL
UID:e.3485.19590
SEQUENCE:3
DTSTAMP:20260422T161939Z
URL:https://www.mountdora.com/events/details/open-house-mount-dora-building-department-19590
END:VEVENT

END:VCALENDAR
