BEGIN:VCALENDAR
VERSION:2.0
PRODID:-//ChamberMaster//Event Calendar 2.0//EN
METHOD:PUBLISH
X-PUBLISHED-TTL:P3D
REFRESH-INTERVAL:P3D
CALSCALE:GREGORIAN
BEGIN:VEVENT
DTSTART:20250814T140000Z
DTEND:20250814T153000Z
X-MICROSOFT-CDO-ALLDAYEVENT:FALSE
SUMMARY:Online Marketing: Bootcamp for Small Business
DESCRIPTION:The thought of getting your business online can be confusing and scary. With so many moving\n\n\n\nparts\, figuring out what to do and how to do it presents a unique challenge for time-starved\n\n\n\nsmall business owners. Don't worry\, once you understand how it all works together you can stop\n\n\n\nwasting time and focus on the things that actually benefit your business.\n\n\n\nIf you're just getting started with online marketing or not seeing the results you've hoped for\, this\n\n\n\nsession is for you. You'll learn the foundational elements that will help you get the word out\n\n\n\nabout your business\, and you won't need a marketing degree to do it!\n\n\n\nIn this session you'll learn:\n\n\n\n? How potential customers find you online\n\n\n\n? How to set yourself up for success\n\n\n\n? How to encourage new and repeat business
X-ALT-DESC;FMTTYPE=text/html:The thought of getting your business online can be confusing and scary. With so many moving<br />\n<br />\nparts\, figuring out what to do and how to do it presents a unique challenge for time-starved<br />\n<br />\nsmall business owners. Don&rsquo\;t worry\, once you understand how it all works together you can stop<br />\n<br />\nwasting time and focus on the things that actually benefit your business.<br />\n<br />\nIf you&rsquo\;re just getting started with online marketing or not seeing the results you&rsquo\;ve hoped for\, this<br />\n<br />\nsession is for you. You&rsquo\;ll learn the foundational elements that will help you get the word out<br />\n<br />\nabout your business\, and you won&rsquo\;t need a marketing degree to do it!<br />\n<br />\nIn this session you&rsquo\;ll learn:<br />\n<br />\n? How potential customers find you online<br />\n<br />\n? How to set yourself up for success<br />\n<br />\n? How to encourage new and repeat business
LOCATION:Online Event
UID:e.3485.19444
SEQUENCE:3
DTSTAMP:20260422T105838Z
URL:https://www.mountdora.com/events/details/online-marketing-bootcamp-for-small-business-08-14-2025-19444
END:VEVENT

END:VCALENDAR
