BEGIN:VCALENDAR
VERSION:2.0
PRODID:-//ChamberMaster//Event Calendar 2.0//EN
METHOD:PUBLISH
X-PUBLISHED-TTL:P3D
REFRESH-INTERVAL:P3D
CALSCALE:GREGORIAN
BEGIN:VEVENT
DTSTART:20260304T233000Z
DTEND:20260305T013000Z
X-MICROSOFT-CDO-ALLDAYEVENT:FALSE
SUMMARY:One Last Drink: A Prohibition Era Immersive Murder Mystery Dinner by Whiskey Kitchen
DESCRIPTION:Event Description\n\nStep back into the 1920s and become part of the story during One Last Drink\, an immersive Prohibition-era murder mystery dinner presented by Something New Studio at Whiskey Kitchen Mount Dora. Set on the eve of Prohibition inside the famous Indigo Club\, guests are drawn into a live\, interactive mystery where they will meet suspects\, uncover clues\, and work together to solve a crime all while enjoying a delicious three-course dinner.\n\nYour ticket includes a three-course meal featuring a house salad\, choice of entr e (Blackened Salmon\, Chicken Fettuccine Alfredo\, or Cheesesteak Ribeye Sandwich)\, and house-made bread pudding for dessert. Guests are encouraged to dress in 1920s attire to fully embrace the experience. Large groups are welcome\, and seating together is best guaranteed when tickets are purchased together.
X-ALT-DESC;FMTTYPE=text/html:<p data-end="1099" data-start="637"><span style="font-size:16px\;"><strong data-end="658" data-start="637">Event Description</strong><br data-end="661" data-start="658" />\nStep back into the 1920s and become part of the story during <em data-end="738" data-start="722">One Last Drink</em>\, an immersive Prohibition-era murder mystery dinner presented by Something New Studio at Whiskey Kitchen Mount Dora. Set on the eve of Prohibition inside the famous Indigo Club\, guests are drawn into a live\, interactive mystery where they will meet suspects\, uncover clues\, and work together to solve a crime&mdash\;all while enjoying a delicious three-course dinner.</span></p>\n\n<p data-end="1488" data-start="1101"><span style="font-size:16px\;">Your ticket includes a three-course meal featuring a house salad\, choice of entr&eacute\;e (Blackened Salmon\, Chicken Fettuccine Alfredo\, or Cheesesteak Ribeye Sandwich)\, and house-made bread pudding for dessert. Guests are encouraged to dress in 1920s attire to fully embrace the experience. Large groups are welcome\, and seating together is best guaranteed when tickets are purchased together.</span></p>\n
LOCATION:Location Whiskey Kitchen Mount Dora 315 N. Highland Street Mount Dora\, FL 32757
UID:e.3485.21828
SEQUENCE:3
DTSTAMP:20260422T013801Z
URL:https://www.mountdora.com/events/details/one-last-drink-a-prohibition-era-immersive-murder-mystery-dinner-by-whiskey-kitchen-21828
END:VEVENT

END:VCALENDAR
