BEGIN:VCALENDAR
VERSION:2.0
PRODID:-//ChamberMaster//Event Calendar 2.0//EN
METHOD:PUBLISH
X-PUBLISHED-TTL:P3D
REFRESH-INTERVAL:P3D
CALSCALE:GREGORIAN
BEGIN:VEVENT
DTSTART:20250916T130000Z
DTEND:20250916T143000Z
X-MICROSOFT-CDO-ALLDAYEVENT:FALSE
SUMMARY:Offers and Salaries: How to Know If You Are Paying Fairly
DESCRIPTION:Whether you are making your first hire\, or assessing if your employee's salary is competitive\, you may wonder whether the compensation\, benefits\, and non-monetary incentives of your roles are attracting the right talent. In this workshop\, we'll dive into proper classification of employees\, paying competitively for your geographic region\, and employee perception of fairness based on pay equity theories. You'll leave this session with tools to avoid legal quagmires and know how to create an attractive compensation and benefits package that retains talented team members. \n\n\n\nIn this session\, we will discuss \n\n\n\nWhy pay equity matters\n\nLegal compliance (federal\, state\, and FL specific laws) \n\nExternal equity \n\nCost of living and geographic location\n\nSupply and demand (impact of COVID)\n\nInternal equity \n\nPay across your organization\n\nCEO to average worker ratio \n\nWhen external and internal equity conflict \n\nCompensation best practices \n\n\n\nPlus a Q&A session at the end for all your compensation questions!
X-ALT-DESC;FMTTYPE=text/html:Whether you are making your first hire\, or assessing if your employee&rsquo\;s salary is competitive\, you may wonder whether the compensation\, benefits\, and non-monetary incentives of your roles are attracting the right talent. In this workshop\, we&rsquo\;ll dive into proper classification of employees\, paying competitively for your geographic region\, and employee perception of fairness based on pay equity theories. You&rsquo\;ll leave this session with tools to avoid legal quagmires and know how to create an attractive compensation and benefits package that retains talented team members.&nbsp\;<br />\n<br />\nIn this session\, we will discuss&nbsp\;<br />\n<br />\nWhy pay equity matters<br />\nLegal compliance (federal\, state\, and FL specific laws)&nbsp\;<br />\nExternal equity&nbsp\;<br />\nCost of living and geographic location<br />\nSupply and demand (impact of COVID)<br />\nInternal equity&nbsp\;<br />\nPay across your organization<br />\nCEO to average worker ratio&nbsp\;<br />\nWhen external and internal equity conflict&nbsp\;<br />\nCompensation best practices&nbsp\;<br />\n<br />\nPlus a Q&amp\;A session at the end for all your compensation questions!&nbsp\;<br />\n<br />\n&nbsp\;
LOCATION:Online Event
UID:e.3485.19546
SEQUENCE:3
DTSTAMP:20260422T091930Z
URL:https://www.mountdora.com/events/details/offers-and-salaries-how-to-know-if-you-are-paying-fairly-09-16-2025-19546
END:VEVENT

END:VCALENDAR
