BEGIN:VCALENDAR
VERSION:2.0
PRODID:-//ChamberMaster//Event Calendar 2.0//EN
METHOD:PUBLISH
X-PUBLISHED-TTL:P3D
REFRESH-INTERVAL:P3D
CALSCALE:GREGORIAN
BEGIN:VEVENT
DTSTART:20250821T160000Z
DTEND:20250821T173000Z
X-MICROSOFT-CDO-ALLDAYEVENT:FALSE
SUMMARY:Nonprofit Essentials 101: Your First Year Roadmap
DESCRIPTION:Starting a 501(c)(3) nonprofit requires careful planning and execution. This workshop helps new founders and board members understand the essential steps for a successful first year. Learn how to organize your corporate binder\, conduct effective board meetings\, choose the right insurance policies\, and utilize key planning documents. Gain insights into funding strategies and compliance requirements to ensure your nonprofit is set up for success.\n\n\n\n \n\n\n\nWhat You'll Learn:\n\n\n\nHow to prepare and organize your corporate binder.\n\nBest practices for initial board meetings.\n\nKey insurance policies needed for your nonprofit.\n\nEssential planning documents for the first year.
X-ALT-DESC;FMTTYPE=text/html:Starting a 501(c)(3) nonprofit requires careful planning and execution. This workshop helps new founders and board members understand the essential steps for a successful first year. Learn how to organize your corporate binder\, conduct effective board meetings\, choose the right insurance policies\, and utilize key planning documents. Gain insights into funding strategies and compliance requirements to ensure your nonprofit is set up for success.<br />\n<br />\n&nbsp\;<br />\n<br />\nWhat You&rsquo\;ll Learn:<br />\n<br />\nHow to prepare and organize your corporate binder.<br />\nBest practices for initial board meetings.<br />\nKey insurance policies needed for your nonprofit.<br />\nEssential planning documents for the first year.
LOCATION:Online Event
UID:e.3485.19452
SEQUENCE:3
DTSTAMP:20260422T102858Z
URL:https://www.mountdora.com/events/details/nonprofit-essentials-101-your-first-year-roadmap-19452
END:VEVENT

END:VCALENDAR
