BEGIN:VCALENDAR
VERSION:2.0
PRODID:-//ChamberMaster//Event Calendar 2.0//EN
METHOD:PUBLISH
X-PUBLISHED-TTL:P3D
REFRESH-INTERVAL:P3D
CALSCALE:GREGORIAN
BEGIN:VEVENT
DTSTART:20260507T130000Z
DTEND:20260507T160000Z
X-MICROSOFT-CDO-ALLDAYEVENT:FALSE
SUMMARY:National Day of Prayer at First Presbyterian
DESCRIPTION:Join First Presbyterian Church of Mount Dora for the National Day of Prayer  Our beautiful chapel will be open for personal and guided prayer as we unite in seeking God for our nation\, community\, and future generations. All are welcome to come and pray in a quiet\, reverent setting.
X-ALT-DESC;FMTTYPE=text/html:<span style="font-size:20px"><span style="font-family:tahoma">Join First Presbyterian Church of Mount Dora for the National Day of Prayer&nbsp\; Our beautiful chapel will be open for personal and guided prayer as we unite in seeking God for our nation\, community\, and future generations. All are welcome to come and pray in a quiet\, reverent setting.</span></span>
LOCATION:First Presbyterian Church Mount Dora 222 W 6th Ave. (Historic Downtown between Alexander and McDonald) Mount Dora\, FL 32726
UID:e.3485.22387
SEQUENCE:3
DTSTAMP:20260420T115134Z
URL:https://www.mountdora.com/events/details/national-day-of-prayer-at-first-presbyterian-22387
END:VEVENT

END:VCALENDAR
