BEGIN:VCALENDAR
VERSION:2.0
PRODID:-//ChamberMaster//Event Calendar 2.0//EN
METHOD:PUBLISH
X-PUBLISHED-TTL:P3D
REFRESH-INTERVAL:P3D
CALSCALE:GREGORIAN
BEGIN:VEVENT
DTSTART:20250927T150000Z
DTEND:20250927T230000Z
X-MICROSOFT-CDO-ALLDAYEVENT:FALSE
SUMMARY:Mount Dora VIVA LA FRIDA Festival
DESCRIPTION:Feel the Beat - See the Color - Join the Party\n\nCome celebrate the colorful\, artistic creativity that Frida Kahlo represents. Join Mount Dora Center for the Arts for a festive\, positive energy\, outdoor event in the heart of historic Mount Dora\, Florida.\n\n\n\nEnjoy fabulous food\, live music\, dancing\, vendors\, and a free kids' art zone. \n\n\n\nCome dressed up like FRIDA KHALO and compete to win great prizes or sit back and vote for YOUR favorite Frida. \n\n\n\nRaffle tickets available for purchase to win a bottle of extra rare 14 yr Adictivo Tequila.
X-ALT-DESC;FMTTYPE=text/html:Feel the Beat - See the Color - Join the Party<br />\nCome celebrate the colorful\, artistic creativity that Frida Kahlo represents. Join Mount Dora Center for the Arts for a festive\, positive energy\, outdoor event in the heart of historic Mount Dora\, Florida.<br />\n<br />\nEnjoy fabulous food\, live music\, dancing\, vendors\, and a free kids&#39\; art zone.&nbsp\;<br />\n<br />\nCome dressed up like FRIDA KHALO and compete to win great prizes or sit back and vote for YOUR favorite Frida.&nbsp\;<br />\n<br />\nRaffle tickets available for purchase to win a bottle of extra rare 14 yr Adictivo Tequila.
LOCATION:Donnelly Park 530 N. Donnelly St
UID:e.3485.19661
SEQUENCE:3
DTSTAMP:20260422T150506Z
URL:https://www.mountdora.com/events/details/mount-dora-viva-la-frida-festival-09-27-2025-19661
END:VEVENT

END:VCALENDAR
