BEGIN:VCALENDAR
VERSION:2.0
PRODID:-//ChamberMaster//Event Calendar 2.0//EN
METHOD:PUBLISH
X-PUBLISHED-TTL:P3D
REFRESH-INTERVAL:P3D
CALSCALE:GREGORIAN
BEGIN:VEVENT
DTSTART:20270404T140000Z
DTEND:20270404T180000Z
X-MICROSOFT-CDO-ALLDAYEVENT:FALSE
SUMMARY:Mount Dora Village Market
DESCRIPTION:
X-ALT-DESC;FMTTYPE=text/html:
LOCATION:Sunset Park Downtown Mount Dora
UID:e.3485.8530
SEQUENCE:3
DTSTAMP:20260422T163721Z
URL:https://www.mountdora.com/events/details/mount-dora-village-market-04-04-2027-8530
END:VEVENT

END:VCALENDAR
