BEGIN:VCALENDAR
VERSION:2.0
PRODID:-//ChamberMaster//Event Calendar 2.0//EN
METHOD:PUBLISH
X-PUBLISHED-TTL:P3D
REFRESH-INTERVAL:P3D
CALSCALE:GREGORIAN
BEGIN:VEVENT
DTSTART:20250704T140000Z
DTEND:20250704T150000Z
X-MICROSOFT-CDO-ALLDAYEVENT:FALSE
SUMMARY:Mount Dora Independence Day Parade (2025)
DESCRIPTION:Join us in downtown Mount Dora for a patriotic tribute parade celebrating our country's independence! The parade begins at the corner of Donnelly and Seventh and runs to Charles Avenue.
X-ALT-DESC;FMTTYPE=text/html:Join us in downtown Mount Dora for a patriotic tribute parade celebrating our country&rsquo\;s independence! The parade begins at the corner of Donnelly and Seventh and runs to Charles Avenue.&nbsp\;
LOCATION:
UID:e.3485.19422
SEQUENCE:3
DTSTAMP:20260422T161758Z
URL:https://www.mountdora.com/events/details/mount-dora-independence-day-parade-2025-19422
END:VEVENT

END:VCALENDAR
