BEGIN:VCALENDAR
VERSION:2.0
PRODID:-//ChamberMaster//Event Calendar 2.0//EN
METHOD:PUBLISH
X-PUBLISHED-TTL:P3D
REFRESH-INTERVAL:P3D
CALSCALE:GREGORIAN
BEGIN:VEVENT
DTSTART:20251016T213000Z
DTEND:20251016T233000Z
X-MICROSOFT-CDO-ALLDAYEVENT:FALSE
SUMMARY:Mount Dora Historical Society Fundraiser
DESCRIPTION:Celebrating Mount Dora's History! Join the Historical Society for a memorable evening at the Lakeside Inn. Enjoy appetizers\, live music\, raffles\, cash bar and more.
X-ALT-DESC;FMTTYPE=text/html:Celebrating Mount Dora&#39\;s History! Join the Historical Society for a memorable evening at the Lakeside Inn. Enjoy appetizers\, live music\, raffles\, cash bar and more.
LOCATION:Lakeside Inn N. 100 Alexander St Mount Dora\, FL
UID:e.3485.19591
SEQUENCE:3
DTSTAMP:20260422T120124Z
URL:https://www.mountdora.com/events/details/mount-dora-historical-society-fundraiser-19591
END:VEVENT

END:VCALENDAR
