BEGIN:VCALENDAR
VERSION:2.0
PRODID:-//ChamberMaster//Event Calendar 2.0//EN
METHOD:PUBLISH
X-PUBLISHED-TTL:P3D
REFRESH-INTERVAL:P3D
CALSCALE:GREGORIAN
BEGIN:VEVENT
DTSTART:20250703T200000Z
DTEND:20250704T020000Z
X-MICROSOFT-CDO-ALLDAYEVENT:FALSE
SUMMARY:Mount Dora Freedom on the Waterfront (FREE EVENT)
DESCRIPTION:Get ready for an unforgettable FREE celebration of freedom and fun! Join us on July 3rd from 4 PM to 10 PM at Elizabeth Evans Park and across the lakefront for our spectacular Freedom on the Waterfront. Visit our website for or details\, including schedules and parking!\n \nBring your blankets\, chairs\, and patriotic spirit for an evening of music\, laughter\, and community under the stars. Let's make memories together and celebrate our freedom in true Mount Dora style!
X-ALT-DESC;FMTTYPE=text/html:<span style="caret-color: rgb(32\, 32\, 32)\; color: rgb(32\, 32\, 32)\; font-family: Helvetica\; font-size: 16px\; text-size-adjust: auto\;">Get ready for an unforgettable </span><strong style="caret-color: rgb(32\, 32\, 32)\; color: rgb(32\, 32\, 32)\; font-family: Helvetica\; font-size: 16px\; text-size-adjust: auto\;">FREE</strong><span style="caret-color: rgb(32\, 32\, 32)\; color: rgb(32\, 32\, 32)\; font-family: Helvetica\; font-size: 16px\; text-size-adjust: auto\;"> celebration of freedom and fun! Join us on </span><strong style="caret-color: rgb(32\, 32\, 32)\; color: rgb(32\, 32\, 32)\; font-family: Helvetica\; font-size: 16px\; text-size-adjust: auto\;">July 3rd</strong><span style="caret-color: rgb(32\, 32\, 32)\; color: rgb(32\, 32\, 32)\; font-family: Helvetica\; font-size: 16px\; text-size-adjust: auto\;"> from </span><strong style="caret-color: rgb(32\, 32\, 32)\; color: rgb(32\, 32\, 32)\; font-family: Helvetica\; font-size: 16px\; text-size-adjust: auto\;">4 PM to 10 PM</strong><span style="caret-color: rgb(32\, 32\, 32)\; color: rgb(32\, 32\, 32)\; font-family: Helvetica\; font-size: 16px\; text-size-adjust: auto\;"> at&nbsp\;</span><strong style="caret-color: rgb(32\, 32\, 32)\; color: rgb(32\, 32\, 32)\; font-family: Helvetica\; font-size: 16px\; text-size-adjust: auto\;">Elizabeth Evans Park</strong><span style="caret-color: rgb(32\, 32\, 32)\; color: rgb(32\, 32\, 32)\; font-family: Helvetica\; font-size: 16px\; text-size-adjust: auto\;"> and across the lakefront for our spectacular </span><strong style="caret-color: rgb(32\, 32\, 32)\; color: rgb(32\, 32\, 32)\; font-family: Helvetica\; font-size: 16px\; text-size-adjust: auto\;">Freedom on the Waterfront. </strong><span style="caret-color: rgb(32\, 32\, 32)\; color: rgb(32\, 32\, 32)\; font-family: Helvetica\; font-size: 16px\; text-size-adjust: auto\;">Visit our website for or details\, including schedules and parking!</span>\n<h3 style="margin: 0px\; padding: 0px\; color: rgb(32\, 32\, 32)\; font-family: Helvetica\; font-size: 20px\; font-weight: bold\; line-height: 25px\; caret-color: rgb(32\, 32\, 32)\; text-size-adjust: auto\;">&nbsp\;</h3>\n<span style="caret-color: rgb(32\, 32\, 32)\; color: rgb(32\, 32\, 32)\; font-family: Helvetica\; font-size: 16px\; text-size-adjust: auto\;">Bring your blankets\, chairs\, and patriotic spirit for an evening of music\, laughter\, and community under the stars. Let&rsquo\;s make memories together and celebrate our freedom in true Mount Dora style!</span>
LOCATION:Elizabeth Evans Park\, Mount Dora FL 32757
UID:e.3485.19421
SEQUENCE:3
DTSTAMP:20260422T145959Z
URL:https://www.mountdora.com/events/details/mount-dora-freedom-on-the-waterfront-free-event-19421
END:VEVENT

END:VCALENDAR
