BEGIN:VCALENDAR
VERSION:2.0
PRODID:-//ChamberMaster//Event Calendar 2.0//EN
METHOD:PUBLISH
X-PUBLISHED-TTL:P3D
REFRESH-INTERVAL:P3D
CALSCALE:GREGORIAN
BEGIN:VEVENT
DTSTART:20270814T150000Z
DTEND:20270814T210000Z
X-MICROSOFT-CDO-ALLDAYEVENT:FALSE
SUMMARY:Mount Dora Florida Highwaymen Art Show\, Sale & Benefit
DESCRIPTION:Annual Florida Highwaymen Art Show\, Sale & Benefit presented by Heron Cay Bed & Breakfast Inn & Kelvin Hair\, Son of Alfred Hair\n\n\n\nThe Original Artists - Issac Knight and Roy McLendon. \n\n2nd Generation Highwaymen - Stephanie Denmark\, Daughter of Al Black\, Kelvin Hair\, Son of Alfred Hair\, Ray McLendon\, Son of Roy McLendon Sr. and Roy McLendon Jr.\, Son of Roy Mc Lendon Sr.\n\nHighwaymen Legacy Artists - Richard Edwards\, Michael Sears and Johnny Stoval.
X-ALT-DESC;FMTTYPE=text/html:<span style="font-size:16px\;"><strong><em>Annual Florida Highwaymen Art Show\, Sale &amp\; Benefit</em></strong> presented by Heron Cay Bed &amp\; Breakfast Inn &amp\; Kelvin Hair\, Son of Alfred Hair<br>\n<br>\n<strong>The Original Artists</strong> - Issac Knight and Roy McLendon.&nbsp\;<br>\n<strong>2nd Generation Highwaymen</strong> - Stephanie Denmark\, Daughter of Al Black\, Kelvin Hair\, Son of Alfred Hair\, Ray McLendon\, Son of Roy McLendon Sr. and Roy McLendon Jr.\, Son of Roy Mc Lendon Sr.<br>\n<strong>Highwaymen Legacy</strong>&nbsp\;<strong>Artists</strong> - Richard Edwards\, Michael Sears and Johnny Stoval.&nbsp\; &nbsp\;</span><br>\n&nbsp\;
LOCATION:Located at Donnelly Park Pavilion on the corner of 5th and Donnelly Street in Historic Downtown Mount Dora.
UID:e.3485.3726
SEQUENCE:3
DTSTAMP:20260422T223316Z
URL:https://www.mountdora.com/events/details/mount-dora-florida-highwaymen-art-show-sale-benefit-08-14-2027-3726
END:VEVENT

END:VCALENDAR
