BEGIN:VCALENDAR
VERSION:2.0
PRODID:-//ChamberMaster//Event Calendar 2.0//EN
METHOD:PUBLISH
X-PUBLISHED-TTL:P3D
REFRESH-INTERVAL:P3D
CALSCALE:GREGORIAN
BEGIN:VEVENT
DTSTART:20190615T140000Z
DTEND:20190615T160000Z
X-MICROSOFT-CDO-ALLDAYEVENT:FALSE
SUMMARY:Mount Dora Art League Meeting
DESCRIPTION:Members are encouraged to bring some of their work to discuss.
X-ALT-DESC;FMTTYPE=text/html:Members are encouraged to bring some of their work to discuss.
LOCATION:Mount Dora Center for the Arts 138 E. 5th Avenue Mount Dora\, FL 32757
UID:e.3485.1260
SEQUENCE:3
DTSTAMP:20260421T015127Z
URL:https://www.mountdora.com/events/details/mount-dora-art-league-meeting-1260
END:VEVENT

END:VCALENDAR
