BEGIN:VCALENDAR
VERSION:2.0
PRODID:-//ChamberMaster//Event Calendar 2.0//EN
METHOD:PUBLISH
X-PUBLISHED-TTL:P3D
REFRESH-INTERVAL:P3D
CALSCALE:GREGORIAN
BEGIN:VEVENT
DTSTART:20250125T150000Z
DTEND:20250125T170000Z
X-MICROSOFT-CDO-ALLDAYEVENT:FALSE
SUMMARY:Model Drawing /Photo - MOUNT DORA ART LEAGUE (MDAL)
DESCRIPTION:The public is invited to a Model Drawing\, Painting or Photo session.
X-ALT-DESC;FMTTYPE=text/html:The public is invited to a&nbsp\;<span style="color:#FF0000\;">Model Drawing\, Painting or Photo&nbsp\;</span>session.
LOCATION:Upstairs MDCA
UID:e.3485.13707
SEQUENCE:3
DTSTAMP:20260422T235724Z
URL:https://www.mountdora.com/events/details/model-drawing-photo-mount-dora-art-league-mdal-13707
END:VEVENT

END:VCALENDAR
