BEGIN:VCALENDAR
VERSION:2.0
PRODID:-//ChamberMaster//Event Calendar 2.0//EN
METHOD:PUBLISH
X-PUBLISHED-TTL:P3D
REFRESH-INTERVAL:P3D
CALSCALE:GREGORIAN
BEGIN:VEVENT
DTSTART;VALUE=DATE:20261009
DTEND;VALUE=DATE:20261012
TRANSP:TRANSPARENT
X-MICROSOFT-CDO-ALLDAYEVENT:TRUE
SUMMARY:Mission Resort + Club Ladies Team Championship
DESCRIPTION:Experience a weekend designed for connection\, competition\, and unforgettable moments on the course. This two-lady team event brings golfers together for 36 holes of dynamic play across two distinct and celebrated championship layouts\, offering both challenge and enjoyment for players of all skill levels.\n\nThe tournament features a thoughtfully curated format\, combining alternate shot and best ball play to keep the experience engaging and strategic. Teams are grouped into handicap-based flights to ensure fair and competitive play\, creating an environment where every pairing has the opportunity to shine.\n\nBeyond the course\, the experience continues with a full lineup of elevated touches. Enjoy exclusive player gifts\, curated meals\, and social events that bring participants together in a relaxed and welcoming atmosphere. From the lively welcome reception to the final awards celebration\, every detail is designed to enhance your time both on and off the course.\n\nWhether you're competing for the top spot or simply enjoying a weekend of golf with a partner\, this event offers the perfect blend of sport\, style\, and camaraderie.
X-ALT-DESC;FMTTYPE=text/html:<p>Experience a weekend designed for connection\, competition\, and unforgettable moments on the course. This two-lady team event brings golfers together for 36 holes of dynamic play across two distinct and celebrated championship layouts\, offering both challenge and enjoyment for players of all skill levels.</p>\n\n<p>The tournament features a thoughtfully curated format\, combining alternate shot and best ball play to keep the experience engaging and strategic. Teams are grouped into handicap-based flights to ensure fair and competitive play\, creating an environment where every pairing has the opportunity to shine.</p>\n\n<p>Beyond the course\, the experience continues with a full lineup of elevated touches. Enjoy exclusive player gifts\, curated meals\, and social events that bring participants together in a relaxed and welcoming atmosphere. From the lively welcome reception to the final awards celebration\, every detail is designed to enhance your time both on and off the course.</p>\n\n<p>Whether you&#39\;re competing for the top spot or simply enjoying a weekend of golf with a partner\, this event offers the perfect blend of sport\, style\, and camaraderie.</p>\n
LOCATION:Mission Resort + Club 10400 County Road 48\, Howey in the Hills\, FL\, 34737
UID:e.3485.22386
SEQUENCE:3
DTSTAMP:20260422T073429Z
URL:https://www.mountdora.com/events/details/mission-resort-club-ladies-team-championship-22386
END:VEVENT

END:VCALENDAR
