BEGIN:VCALENDAR
VERSION:2.0
PRODID:-//ChamberMaster//Event Calendar 2.0//EN
METHOD:PUBLISH
X-PUBLISHED-TTL:P3D
REFRESH-INTERVAL:P3D
CALSCALE:GREGORIAN
BEGIN:VEVENT
DTSTART:20251022T150000Z
DTEND:20251022T190000Z
X-MICROSOFT-CDO-ALLDAYEVENT:FALSE
SUMMARY:Mission Resort + Club Chamber of Commerce Networking Day
DESCRIPTION:You're invited to a special Afternoon of Networking\, Lunch & Golf at Mission Resort + Club! This is a unique opportunity to connect with fellow Chamber of Commerce members and community leaders while enjoying Florida golf at its finest.\n\n\n\nEvent Details:\n\nWhen: Wednesday\, October 22\, 2025\n\nLunch & Networking: 11:00 a.m.   12:00 p.m.\n\nGolf Starting Times: Beginning at 12:30 p.m.\n\n\n\nWhere:\n\nMission Resort + Club   El Campe n Golf Course\n\nBuilt in 1917\, El Campe n is one of Florida's oldest and most historic courses\, featuring 85-foot elevation changes\, scenic fairways framed by ancient oaks\, and sparkling water features.\n\n\n\nWhy Attend:\n\nBuild meaningful relationships with business and community leaders from multiple Chambers of Commerce\n\nExperience the beauty and hospitality of Mission Resort + Club\n\nSchedule a personal tour with one of our resort team members\n\nEnjoy a chef-prepared lunch before teeing off on one of Florida's most historic and challenging golf courses\n\n\n\nPricing:\n\n$75 per person   Includes lunch\, networking\, and 18 holes of golf with a shared cart on El Campe n\n\n$50 per person   Includes lunch and networking\n\n\n\nSpace is limited\, so reserve your spot today!\n\n\n\nWe look forward to hosting you for an afternoon of connection\, fun\, and championship golf. Please let me know if you have any questions or need additional information.
X-ALT-DESC;FMTTYPE=text/html:You&rsquo\;re invited to a special Afternoon of Networking\, Lunch &amp\; Golf at Mission Resort + Club! This is a unique opportunity to connect with fellow Chamber of Commerce members and community leaders while enjoying Florida golf at its finest.<br />\n<br />\nEvent Details:<br />\nWhen: Wednesday\, October 22\, 2025<br />\nLunch &amp\; Networking: 11:00 a.m. &ndash\; 12:00 p.m.<br />\nGolf Starting Times: Beginning at 12:30 p.m.<br />\n<br />\nWhere:<br />\nMission Resort + Club &ndash\; El Campe&oacute\;n Golf Course<br />\nBuilt in 1917\, El Campe&oacute\;n is one of Florida&rsquo\;s oldest and most historic courses\, featuring 85-foot elevation changes\, scenic fairways framed by ancient oaks\, and sparkling water features.<br />\n<br />\nWhy Attend:<br />\nBuild meaningful relationships with business and community leaders from multiple Chambers of Commerce<br />\nExperience the beauty and hospitality of Mission Resort + Club<br />\nSchedule a personal tour with one of our resort team members<br />\nEnjoy a chef-prepared lunch before teeing off on one of Florida&rsquo\;s most historic and challenging golf courses<br />\n<br />\nPricing:<br />\n$75 per person &ndash\; Includes lunch\, networking\, and 18 holes of golf with a shared cart on El Campe&oacute\;n<br />\n$50 per person &ndash\; Includes lunch and networking<br />\n<br />\nSpace is limited\, so reserve your spot today!<br />\n<br />\nWe look forward to hosting you for an afternoon of connection\, fun\, and championship golf. Please let me know if you have any questions or need additional information.
LOCATION:Mission Resort + Club 10400 County Road 48\, Howey-in-the-Hills\, FL\, 34737
UID:e.3485.19684
SEQUENCE:3
DTSTAMP:20260422T075104Z
URL:https://www.mountdora.com/events/details/mission-resort-club-chamber-of-commerce-networking-day-19684
END:VEVENT

END:VCALENDAR
