BEGIN:VCALENDAR
VERSION:2.0
PRODID:-//ChamberMaster//Event Calendar 2.0//EN
METHOD:PUBLISH
X-PUBLISHED-TTL:P3D
REFRESH-INTERVAL:P3D
CALSCALE:GREGORIAN
BEGIN:VEVENT
DTSTART:20210724T190000Z
DTEND:20210724T213000Z
X-MICROSOFT-CDO-ALLDAYEVENT:FALSE
SUMMARY:Minute by Minute - A Tribute to the Doobie Brothers
DESCRIPTION:The Doobie Brothers have been rocking the world for more than 50 years. Their brilliantly- crafted songs create the rich tapestry of sound which has become life''s soundtrack for multiple generations. The talented veteran musicians of Minute by Minute cover all eras of the Doobie Brothers with virtuosity and joy. Their love for the music is evident in every note of this uplifting\, high-energy show!"
X-ALT-DESC;FMTTYPE=text/html:<span style="color: rgb(102\, 102\, 102)\; font-family: &quot\;Open Sans&quot\;\, sans-serif\; font-size: 12.6px\;">The Doobie Brothers have been rocking the world for more than 50 years. Their brilliantly- crafted songs create the rich tapestry of sound which has become life&#39\;&#39\;s soundtrack for multiple generations. The talented veteran musicians of Minute by Minute cover all eras of the Doobie Brothers with virtuosity and joy. Their love for the music is evident in every note of this uplifting\, high-energy show!&quot\;</span>
LOCATION:Mount Dora Community Building 520 Baker Street Mount Dora\, Fl 32757
UID:e.3485.3295
SEQUENCE:3
DTSTAMP:20260425T203728Z
URL:https://www.mountdora.com/events/details/minute-by-minute-a-tribute-to-the-doobie-brothers-3295
END:VEVENT

END:VCALENDAR
