BEGIN:VCALENDAR
VERSION:2.0
PRODID:-//ChamberMaster//Event Calendar 2.0//EN
METHOD:PUBLISH
X-PUBLISHED-TTL:P3D
REFRESH-INTERVAL:P3D
CALSCALE:GREGORIAN
BEGIN:VEVENT
DTSTART:20241219T010000Z
DTEND:20241219T020000Z
X-MICROSOFT-CDO-ALLDAYEVENT:FALSE
SUMMARY:Mastering Mutually Beneficial Negotiations
DESCRIPTION:This webinar takes a deep dive into the art of negotiation\, illustrating that success lies in crafting win-win situations. It outlines impactful techniques and mindsets that ensure both parties leave the negotiation table feeling satisfied and valued\, an approach that fosters lasting business relationships and growth.
X-ALT-DESC;FMTTYPE=text/html:This webinar takes a deep dive into the&nbsp\;art of negotiation\, illustrating that success lies in&nbsp\;crafting win-win situations. It outlines impactful techniques and mindsets that ensure both parties&nbsp\;leave the negotiation table feeling satisfied and valued\,&nbsp\;an approach that fosters lasting business relationships and growth.
LOCATION:Online Event
UID:e.3485.13196
SEQUENCE:3
DTSTAMP:20260422T222625Z
URL:https://www.mountdora.com/events/details/mastering-mutually-beneficial-negotiations-13196
END:VEVENT

END:VCALENDAR
