BEGIN:VCALENDAR
VERSION:2.0
PRODID:-//ChamberMaster//Event Calendar 2.0//EN
METHOD:PUBLISH
X-PUBLISHED-TTL:P3D
REFRESH-INTERVAL:P3D
CALSCALE:GREGORIAN
BEGIN:VEVENT
DTSTART:20250605T230000Z
DTEND:20250606T000000Z
X-MICROSOFT-CDO-ALLDAYEVENT:FALSE
SUMMARY:Mastering Mastermind Groups: Maximize Collaboration & Achieve Business Goals
DESCRIPTION:Join us for an insightful one-hour webinar designed specifically for small business owners who are eager to leverage the collective expertise and accountability that mastermind groups offer. Whether you're just considering joining a group or are looking to get more from your current group\, this webinar will provide you with the tools and strategies needed to maximize collaboration and drive significant growth in your business.\n\n\n\nWhat You'll Learn:\n\n\n\nFoundations for Success: Understand the essential elements that make a mastermind group effective\, from choosing the right members to setting clear\, achievable goals.\n\nStrategic Engagement: Discover how to prepare for and engage in mastermind sessions that spark meaningful dialogue and actionable insights.\n\nSustained Growth: Learn how to measure the impact of your mastermind group on your business and adapt strategies to ensure long-term success.\n\n\n\nBy the end of this session\, you'll not only appreciate the transformative potential of mastermind groups\, but you'll also have a clear plan to harness this potential to achieve your business objectives. Don't miss this opportunity to transform collaboration into a powerful driver of your business success.
X-ALT-DESC;FMTTYPE=text/html:Join us for an insightful one-hour webinar designed specifically for small business owners who are eager to&nbsp\;leverage the collective expertise and accountability that mastermind groups offer. Whether you&#39\;re just considering joining a group or are looking to get more from your current group\, this webinar will provide you with the tools and strategies needed to maximize collaboration and drive significant growth in your business.<br />\n<br />\nWhat You&rsquo\;ll Learn:<br />\n<br />\nFoundations for Success: Understand the essential elements that make a mastermind group effective\, from&nbsp\;choosing the right members to setting clear\, achievable goals.<br />\nStrategic Engagement: Discover how to&nbsp\;prepare for and engage in mastermind sessions&nbsp\;that spark meaningful dialogue and actionable insights.<br />\nSustained Growth: Learn how to&nbsp\;measure the impact of your mastermind group&nbsp\;on your business and adapt strategies to ensure long-term success.<br />\n<br />\nBy the end of this session\, you&#39\;ll not only appreciate the transformative potential of mastermind groups\, but you&#39\;ll also have a clear plan to harness this potential to achieve your business objectives. Don&#39\;t miss this opportunity to transform collaboration into a powerful driver of your business success.
LOCATION:Online Event
UID:e.3485.18282
SEQUENCE:3
DTSTAMP:20260422T150038Z
URL:https://www.mountdora.com/events/details/mastering-mastermind-groups-maximize-collaboration-achieve-business-goals-06-05-2025-18282
END:VEVENT

END:VCALENDAR
