BEGIN:VCALENDAR
VERSION:2.0
PRODID:-//ChamberMaster//Event Calendar 2.0//EN
METHOD:PUBLISH
X-PUBLISHED-TTL:P3D
REFRESH-INTERVAL:P3D
CALSCALE:GREGORIAN
BEGIN:VEVENT
DTSTART:20250826T150000Z
DTEND:20250826T160000Z
X-MICROSOFT-CDO-ALLDAYEVENT:FALSE
SUMMARY:Married to the Hustle: Running a Family Business Without Running Over Each Other
DESCRIPTION:Running a business with family can be incredibly rewarding and incredibly challenging. In this session\, we'll talk about the realities of working with the people you love and how to set boundaries\, roles\, and expectations that protect both your business and your relationships. Learn how to communicate better\, delegate smarter\, and grow together without the burnout.
X-ALT-DESC;FMTTYPE=text/html:Running a business with family can be incredibly rewarding&mdash\;and incredibly challenging. In this session\, we&rsquo\;ll talk about the realities of working with the people you love and how to set boundaries\, roles\, and expectations that protect both your business and your relationships. Learn how to communicate better\, delegate smarter\, and grow together without the burnout.
LOCATION:Online Event
UID:e.3485.19454
SEQUENCE:3
DTSTAMP:20260422T110306Z
URL:https://www.mountdora.com/events/details/married-to-the-hustle-running-a-family-business-without-running-over-each-other-19454
END:VEVENT

END:VCALENDAR
