BEGIN:VCALENDAR
VERSION:2.0
PRODID:-//ChamberMaster//Event Calendar 2.0//EN
METHOD:PUBLISH
X-PUBLISHED-TTL:P3D
REFRESH-INTERVAL:P3D
CALSCALE:GREGORIAN
BEGIN:VEVENT
DTSTART:20241209T230000Z
DTEND:20241210T020000Z
X-MICROSOFT-CDO-ALLDAYEVENT:FALSE
SUMMARY:Marketing Your Business
DESCRIPTION:For people who want to obtain trial by customers and growth for their business\, whether it is a product\, service or both. It explains various marketing strategies and contains many practical marketing tips. It will help you define your mission\, analyze your situation\, conduct research\, identify your target market\, and develop your marketing mix.
X-ALT-DESC;FMTTYPE=text/html:For people who want to obtain trial by customers and growth for their business\, whether it is a product\, service or both. It explains various marketing strategies and contains many practical marketing tips. It will help you define your mission\, analyze your situation\, conduct research\, identify your target market\, and develop your marketing mix.
LOCATION:Online Event
UID:e.3485.13211
SEQUENCE:3
DTSTAMP:20260422T223225Z
URL:https://www.mountdora.com/events/details/marketing-your-business-12-09-2024-13211
END:VEVENT

END:VCALENDAR
