BEGIN:VCALENDAR
VERSION:2.0
PRODID:-//ChamberMaster//Event Calendar 2.0//EN
METHOD:PUBLISH
X-PUBLISHED-TTL:P3D
REFRESH-INTERVAL:P3D
CALSCALE:GREGORIAN
BEGIN:VEVENT
DTSTART:20250127T223000Z
DTEND:20250128T010000Z
X-MICROSOFT-CDO-ALLDAYEVENT:FALSE
SUMMARY:Marketing Research: When and How to Use It
DESCRIPTION:Small business owners tend to under-utilize marketing\n\n\n\nresearch as they develop their products and strategies. This is often due to a lack of\n\n\n\nunderstanding of when research should be performed and what types of research to\n\n\n\nemploy. This webinar will review the techniques available and provide examples of when\n\n\n\nto use each one.\n\n\n\nThis webinar will cover the following:\n\n\n\nThe different types of primary and secondary research.\n\nThe different types of qualitative and quantitative research.\n\nWhen to use focus groups and other interview techniques.\n\nWhen to perform quantitative surveys.\n\nHow to determine the sample size and sample weighting for surveys.\n\nThe different types of survey questions and how to write them.\n\nA review of some of the largest marketing research contract firms.
X-ALT-DESC;FMTTYPE=text/html:Small business owners tend to under-utilize marketing<br />\n<br />\nresearch as they develop their products and strategies. This is often due to a lack of<br />\n<br />\nunderstanding of when research should be performed and what types of research to<br />\n<br />\nemploy. This webinar will review the techniques available and provide examples of when<br />\n<br />\nto use each one.<br />\n<br />\nThis webinar will cover the following:<br />\n<br />\nThe different types of primary and secondary research.<br />\nThe different types of qualitative and quantitative research.<br />\nWhen to use focus groups and other interview techniques.<br />\nWhen to perform quantitative surveys.<br />\nHow to determine the sample size and sample weighting for surveys.<br />\nThe different types of survey questions and how to write them.<br />\nA review of some of the largest marketing research contract firms.
LOCATION:Online Event
UID:e.3485.13267
SEQUENCE:3
DTSTAMP:20260422T223223Z
URL:https://www.mountdora.com/events/details/marketing-research-when-and-how-to-use-it-01-27-2025-13267
END:VEVENT

END:VCALENDAR
