BEGIN:VCALENDAR
VERSION:2.0
PRODID:-//ChamberMaster//Event Calendar 2.0//EN
METHOD:PUBLISH
X-PUBLISHED-TTL:P3D
REFRESH-INTERVAL:P3D
CALSCALE:GREGORIAN
BEGIN:VEVENT
DTSTART:20251021T180000Z
DTEND:20251021T200000Z
X-MICROSOFT-CDO-ALLDAYEVENT:FALSE
SUMMARY:Managing Your Non-Profit
DESCRIPTION:Managing a nonprofit organization is different from managing a for-profit operation. While traditional management and administrative skills are required\, nonprofit organizations require additional consideration due to engagement of the Board of Directors\, operational transparency\, and meeting a need to the community. This seminar examines the management of those challenging points.
X-ALT-DESC;FMTTYPE=text/html:Managing a nonprofit organization is different from managing a for-profit operation.&nbsp\;While traditional management and administrative skills are required\, nonprofit organizations require additional consideration due to engagement of the Board of Directors\, operational transparency\, and meeting a need to the community.&nbsp\;This seminar examines the management of those challenging points.
LOCATION:Online Event
UID:e.3485.19647
SEQUENCE:3
DTSTAMP:20260422T074551Z
URL:https://www.mountdora.com/events/details/managing-your-non-profit-10-21-2025-19647
END:VEVENT

END:VCALENDAR
