BEGIN:VCALENDAR
VERSION:2.0
PRODID:-//ChamberMaster//Event Calendar 2.0//EN
METHOD:PUBLISH
X-PUBLISHED-TTL:P3D
REFRESH-INTERVAL:P3D
CALSCALE:GREGORIAN
BEGIN:VEVENT
DTSTART:20250806T160000Z
DTEND:20250806T170000Z
X-MICROSOFT-CDO-ALLDAYEVENT:FALSE
SUMMARY:Local SEO Mastery: Dominating Your Geographic Market
DESCRIPTION:If you're a small business owner\, you already know how important it is to show up when people in your area search for the products or services you offer. In this webinar\, Local SEO Mastery\, we'll walk you through simple\, effective strategies to help your business stand out in local search results. From fine-tuning your Google Business Profile to creating content that speaks directly to your local audience\, you'll learn how to get noticed by nearby customers who are ready to buy.\n\n\n\nWhether you're a brick-and-mortar store or a service-based business with a local service area\, this webinar will give you the practical tools and strategies to climb the local rankings and drive more foot traffic\, phone calls\, and leads.\n\n\n\nAttendees will learn:\n\n\n\nHow to fully optimize your Google Business Profile to increase visibility in Maps and local search\n\n\n\nWhat the Google Local Pack is and how to get your business featured in it\n\n\n\nThe key ranking factors Google uses for local SEO   and how to improve them\n\n\n\nHow to build and maintain consistent business listings (NAP) across the web\n\n\n\nTips for generating more positive customer reviews that boost your credibility and rankings\n\n\n\nHow to use localized content to target customers in your service area\n\n\n\nWhy schema markup and business details help search engines better understand your business\n\n\n\nHow to track and measure your local SEO performance\n\n\n\nThis is a must-attend for any small business owner who wants to take control of their online presence and win more customers locally.
X-ALT-DESC;FMTTYPE=text/html:If you&#39\;re a small business owner\, you already know how important it is to show up when people in your area search for the products or services you offer. In this webinar\, Local SEO Mastery\, we&rsquo\;ll walk you through simple\, effective strategies to help your business stand out in local search results. From fine-tuning your Google Business Profile to creating content that speaks directly to your local audience\, you&rsquo\;ll learn how to get noticed by nearby customers who are ready to buy.<br />\n<br />\nWhether you&rsquo\;re a brick-and-mortar store or a service-based business with a local service area\, this webinar will give you the practical tools and strategies to climb the local rankings and drive more foot traffic\, phone calls\, and leads.<br />\n<br />\nAttendees will learn:<br />\n<br />\nHow to fully optimize your&nbsp\;Google Business Profile&nbsp\;to increase visibility in Maps and local search<br />\n<br />\nWhat the&nbsp\;Google Local Pack&nbsp\;is and how to get your business featured in it<br />\n<br />\nThe key ranking factors Google uses for local SEO &mdash\; and how to improve them<br />\n<br />\nHow to build and maintain&nbsp\;consistent business listings (NAP)&nbsp\;across the web<br />\n<br />\nTips for generating more&nbsp\;positive customer reviews&nbsp\;that boost your credibility and rankings<br />\n<br />\nHow to use&nbsp\;localized content&nbsp\;to target customers in your service area<br />\n<br />\nWhy schema markup and business details help search engines better understand your business<br />\n<br />\nHow to track and measure your local SEO performance<br />\n<br />\nThis is a must-attend for any small business owner who wants to take control of their online presence and win more customers locally.<br />\n<br />\n&nbsp\;
LOCATION:Online Event
UID:e.3485.19434
SEQUENCE:3
DTSTAMP:20260422T105820Z
URL:https://www.mountdora.com/events/details/local-seo-mastery-dominating-your-geographic-market-19434
END:VEVENT

END:VCALENDAR
